BEGIN:VCALENDAR
VERSION:2.0
PRODID:Magain Real Estate Open for Inspection - Neat, Spacious and Move-In
 Ready
BEGIN:VTIMEZONE
TZID:Australia/Melbourne
BEGIN:STANDARD
DTSTART:20260420T160000
TZOFFSETTO:+1000
TZNAME:GMT+10
END:STANDARD
END:VTIMEZONE
BEGIN:VEVENT
UID:69ea19320e978
DTSTART;TZID=Australia/Melbourne:20260420T160000
SEQUENCE:0
TRANSP:OPAQUE
DTEND;TZID=Australia/Melbourne:20260420T163000
LOCATION:1/22 Burns Court Morphett Vale SA
SUMMARY:Magain Real Estate Open for Inspection - 1/22 Burns Court Morphett
 Vale SA
CLASS:PUBLIC
DESCRIPTION:Open for Inspection: 1/22 Burns Court Morphett Vale SA Monday
 20th Apr 16:00pm - 16:30pm Click the link for full listing information:
 https://www.magain.com.au/property/122-burns-court-morphett-vale-sa/8679603
DTSTAMP:20260423T130554
END:VEVENT
END:VCALENDAR