BEGIN:VCALENDAR
VERSION:2.0
PRODID:Magain Real Estate Open for Inspection - Generous Family Living,
 Perfectly Positioned - Welcome Home!
BEGIN:VTIMEZONE
TZID:Australia/Melbourne
BEGIN:STANDARD
DTSTART:20260426T140000
TZOFFSETTO:+1000
TZNAME:GMT+10
END:STANDARD
END:VTIMEZONE
BEGIN:VEVENT
UID:69eb5bd3db546
DTSTART;TZID=Australia/Melbourne:20260426T140000
SEQUENCE:0
TRANSP:OPAQUE
DTEND;TZID=Australia/Melbourne:20260426T143000
LOCATION:13 Cornwall Court Woodcroft SA
SUMMARY:Magain Real Estate Open for Inspection - 13 Cornwall Court
 Woodcroft SA
CLASS:PUBLIC
DESCRIPTION:Open for Inspection: 13 Cornwall Court Woodcroft SA Sunday
 26th Apr 14:00pm - 14:30pm Click the link for full listing information:
 https://www.magain.com.au/property/13-cornwall-court-woodcroft-sa/8675196
DTSTAMP:20260424T120227
END:VEVENT
END:VCALENDAR