BEGIN:VCALENDAR
VERSION:2.0
PRODID:Magain Real Estate Open for Inspection - An Incredible Opportunity
 In A Prime Beachside Location!
BEGIN:VTIMEZONE
TZID:Australia/Melbourne
BEGIN:STANDARD
DTSTART:20260425T130000
TZOFFSETTO:+1000
TZNAME:GMT+10
END:STANDARD
END:VTIMEZONE
BEGIN:VEVENT
UID:69eb5acaa701d
DTSTART;TZID=Australia/Melbourne:20260425T130000
SEQUENCE:0
TRANSP:OPAQUE
DTEND;TZID=Australia/Melbourne:20260425T133000
LOCATION:13 Penn Corner Glengowrie SA
SUMMARY:Magain Real Estate Open for Inspection - 13 Penn Corner Glengowrie
 SA
CLASS:PUBLIC
DESCRIPTION:Open for Inspection: 13 Penn Corner Glengowrie SA Saturday
 25th Apr 13:00pm - 13:30pm Click the link for full listing information:
 https://www.magain.com.au/property/13-penn-corner-glengowrie-sa/8680148
DTSTAMP:20260424T115802
END:VEVENT
END:VCALENDAR