BEGIN:VCALENDAR
VERSION:2.0
PRODID:Magain Real Estate Open for Inspection - Coastal Contemporary
 Living with Style, Space & Unbeatable Convenience
BEGIN:VTIMEZONE
TZID:Australia/Melbourne
BEGIN:STANDARD
DTSTART:20260425T124500
TZOFFSETTO:+1000
TZNAME:GMT+10
END:STANDARD
END:VTIMEZONE
BEGIN:VEVENT
UID:69eb4c075bed9
DTSTART;TZID=Australia/Melbourne:20260425T124500
SEQUENCE:0
TRANSP:OPAQUE
DTEND;TZID=Australia/Melbourne:20260425T131500
LOCATION:13b Shearer Avenue Seacombe Gardens SA
SUMMARY:Magain Real Estate Open for Inspection - 13b Shearer Avenue
 Seacombe Gardens SA
CLASS:PUBLIC
DESCRIPTION:Open for Inspection: 13b Shearer Avenue Seacombe Gardens SA
 Saturday 25th Apr 12:45pm - 13:15pm Click the link for full listing
 information:
 https://www.magain.com.au/property/13b-shearer-avenue-seacombe-gardens-sa/8681196
DTSTAMP:20260424T105503
END:VEVENT
END:VCALENDAR