BEGIN:VCALENDAR
VERSION:2.0
PRODID:Magain Real Estate Open for Inspection - Coastal Contemporary
 Living with Style, Space & Unbeatable Convenience
BEGIN:VTIMEZONE
TZID:Australia/Melbourne
BEGIN:STANDARD
DTSTART:20260427T170000
TZOFFSETTO:+1000
TZNAME:GMT+10
END:STANDARD
END:VTIMEZONE
BEGIN:VEVENT
UID:69eb6e79b02b6
DTSTART;TZID=Australia/Melbourne:20260427T170000
SEQUENCE:0
TRANSP:OPAQUE
DTEND;TZID=Australia/Melbourne:20260427T173000
LOCATION:13b Shearer Avenue Seacombe Gardens SA
SUMMARY:Magain Real Estate Open for Inspection - 13b Shearer Avenue
 Seacombe Gardens SA
CLASS:PUBLIC
DESCRIPTION:Open for Inspection: 13b Shearer Avenue Seacombe Gardens SA
 Monday 27th Apr 17:00pm - 17:30pm Click the link for full listing
 information:
 https://www.magain.com.au/property/13b-shearer-avenue-seacombe-gardens-sa/8681196
DTSTAMP:20260424T132201
END:VEVENT
END:VCALENDAR