BEGIN:VCALENDAR
VERSION:2.0
PRODID:Magain Real Estate Open for Inspection - Stylish, Low-Maintenance
 Living with Great Outdoor Entertaining
BEGIN:VTIMEZONE
TZID:Australia/Melbourne
BEGIN:STANDARD
DTSTART:20260426T120000
TZOFFSETTO:+1000
TZNAME:GMT+10
END:STANDARD
END:VTIMEZONE
BEGIN:VEVENT
UID:69eb6e71e5a01
DTSTART;TZID=Australia/Melbourne:20260426T120000
SEQUENCE:0
TRANSP:OPAQUE
DTEND;TZID=Australia/Melbourne:20260426T123000
LOCATION:14/40 The Lane O'halloran Hill SA
SUMMARY:Magain Real Estate Open for Inspection - 14/40 The Lane O'halloran
 Hill SA
CLASS:PUBLIC
DESCRIPTION:Open for Inspection: 14/40 The Lane O'halloran Hill SA Sunday
 26th Apr 12:00pm - 12:30pm Click the link for full listing information:
 https://www.magain.com.au/property/1440-the-lane-ohalloran-hill-sa/8669692
DTSTAMP:20260424T132153
END:VEVENT
END:VCALENDAR