BEGIN:VCALENDAR
VERSION:2.0
PRODID:Magain Real Estate Open for Inspection - A Spacious Family Home
 with Endless Potential
BEGIN:VTIMEZONE
TZID:Australia/Melbourne
BEGIN:STANDARD
DTSTART:20260426T110000
TZOFFSETTO:+1000
TZNAME:GMT+10
END:STANDARD
END:VTIMEZONE
BEGIN:VEVENT
UID:69eb4c1377515
DTSTART;TZID=Australia/Melbourne:20260426T110000
SEQUENCE:0
TRANSP:OPAQUE
DTEND;TZID=Australia/Melbourne:20260426T113000
LOCATION:15 Allman Avenue Woodcroft SA
SUMMARY:Magain Real Estate Open for Inspection - 15 Allman Avenue
 Woodcroft SA
CLASS:PUBLIC
DESCRIPTION:Open for Inspection: 15 Allman Avenue Woodcroft SA Sunday 26th
 Apr 11:00am - 11:30am Click the link for full listing information:
 https://www.magain.com.au/property/15-allman-avenue-woodcroft-sa/8681195
DTSTAMP:20260424T105515
END:VEVENT
END:VCALENDAR