BEGIN:VCALENDAR
VERSION:2.0
PRODID:Magain Real Estate Open for Inspection - Comfort, Convenience,
 Modern Family Living - Welcome Home!
BEGIN:VTIMEZONE
TZID:Australia/Melbourne
BEGIN:STANDARD
DTSTART:20260425T113000
TZOFFSETTO:+1000
TZNAME:GMT+10
END:STANDARD
END:VTIMEZONE
BEGIN:VEVENT
UID:69e8d083cc6cf
DTSTART;TZID=Australia/Melbourne:20260425T113000
SEQUENCE:0
TRANSP:OPAQUE
DTEND;TZID=Australia/Melbourne:20260425T120000
LOCATION:16 Prion Court Noarlunga Downs SA
SUMMARY:Magain Real Estate Open for Inspection - 16 Prion Court Noarlunga
 Downs SA
CLASS:PUBLIC
DESCRIPTION:Open for Inspection: 16 Prion Court Noarlunga Downs SA
 Saturday 25th Apr 11:30am - 12:00pm Click the link for full listing
 information:
 https://www.magain.com.au/property/16-prion-court-noarlunga-downs-sa/8681780
DTSTAMP:20260422T134331
END:VEVENT
END:VCALENDAR