BEGIN:VCALENDAR
VERSION:2.0
PRODID:Magain Real Estate Open for Inspection - Great family home in
 perfect location
BEGIN:VTIMEZONE
TZID:Australia/Melbourne
BEGIN:STANDARD
DTSTART:20260414T160000
TZOFFSETTO:+1000
TZNAME:GMT+10
END:STANDARD
END:VTIMEZONE
BEGIN:VEVENT
UID:69e5ec8516fcb
DTSTART;TZID=Australia/Melbourne:20260414T160000
SEQUENCE:0
TRANSP:OPAQUE
DTEND;TZID=Australia/Melbourne:20260414T161500
LOCATION:16 The Parkway Aberfoyle Park SA
SUMMARY:Magain Real Estate Open for Inspection - 16 The Parkway Aberfoyle
 Park SA
CLASS:PUBLIC
DESCRIPTION:Open for Inspection: 16 The Parkway Aberfoyle Park SA Tuesday
 14th Apr 16:00pm - 16:15pm Click the link for full listing information:
 https://www.magain.com.au/property/16-the-parkway-aberfoyle-park-sa/8664695
DTSTAMP:20260420T090613
END:VEVENT
END:VCALENDAR