BEGIN:VCALENDAR
VERSION:2.0
PRODID:Magain Real Estate Open for Inspection - Room to Grow and Scope to
 Improve
BEGIN:VTIMEZONE
TZID:Australia/Melbourne
BEGIN:STANDARD
DTSTART:20260425T124500
TZOFFSETTO:+1000
TZNAME:GMT+10
END:STANDARD
END:VTIMEZONE
BEGIN:VEVENT
UID:69eb5af469b06
DTSTART;TZID=Australia/Melbourne:20260425T124500
SEQUENCE:0
TRANSP:OPAQUE
DTEND;TZID=Australia/Melbourne:20260425T131500
LOCATION:17 Sherebrooke Boulevard Woodcroft SA
SUMMARY:Magain Real Estate Open for Inspection - 17 Sherebrooke Boulevard
 Woodcroft SA
CLASS:PUBLIC
DESCRIPTION:Open for Inspection: 17 Sherebrooke Boulevard Woodcroft SA
 Saturday 25th Apr 12:45pm - 13:15pm Click the link for full listing
 information:
 https://www.magain.com.au/property/17-sherebrooke-boulevard-woodcroft-sa/8681040
DTSTAMP:20260424T115844
END:VEVENT
END:VCALENDAR