BEGIN:VCALENDAR
VERSION:2.0
PRODID:Magain Real Estate Open for Inspection - Meticulously maintained
 family home is sure to impress
BEGIN:VTIMEZONE
TZID:Australia/Melbourne
BEGIN:STANDARD
DTSTART:20260426T120000
TZOFFSETTO:+1000
TZNAME:GMT+10
END:STANDARD
END:VTIMEZONE
BEGIN:VEVENT
UID:69eb5c1216273
DTSTART;TZID=Australia/Melbourne:20260426T120000
SEQUENCE:0
TRANSP:OPAQUE
DTEND;TZID=Australia/Melbourne:20260426T123000
LOCATION:2 Galton Court Morphett Vale SA
SUMMARY:Magain Real Estate Open for Inspection - 2 Galton Court Morphett
 Vale SA
CLASS:PUBLIC
DESCRIPTION:Open for Inspection: 2 Galton Court Morphett Vale SA Sunday
 26th Apr 12:00pm - 12:30pm Click the link for full listing information:
 https://www.magain.com.au/property/2-galton-court-morphett-vale-sa/8679678
DTSTAMP:20260424T120330
END:VEVENT
END:VCALENDAR