BEGIN:VCALENDAR
VERSION:2.0
PRODID:Magain Real Estate Open for Inspection - Generous Living in a
 Well-Established Location
BEGIN:VTIMEZONE
TZID:Australia/Melbourne
BEGIN:STANDARD
DTSTART:20260425T120000
TZOFFSETTO:+1000
TZNAME:GMT+10
END:STANDARD
END:VTIMEZONE
BEGIN:VEVENT
UID:69eb5c310f9be
DTSTART;TZID=Australia/Melbourne:20260425T120000
SEQUENCE:0
TRANSP:OPAQUE
DTEND;TZID=Australia/Melbourne:20260425T123000
LOCATION:23 Greenlees Parade Aldinga Beach SA
SUMMARY:Magain Real Estate Open for Inspection - 23 Greenlees Parade
 Aldinga Beach SA
CLASS:PUBLIC
DESCRIPTION:Open for Inspection: 23 Greenlees Parade Aldinga Beach SA
 Saturday 25th Apr 12:00pm - 12:30pm Click the link for full listing
 information:
 https://www.magain.com.au/property/23-greenlees-parade-aldinga-beach-sa/8680590
DTSTAMP:20260424T120401
END:VEVENT
END:VCALENDAR