BEGIN:VCALENDAR
VERSION:2.0
PRODID:Magain Real Estate Open for Inspection - One Dream, Two Properties,
 Perfectly Positioned - Welcome Home!
BEGIN:VTIMEZONE
TZID:Australia/Melbourne
BEGIN:STANDARD
DTSTART:20260425T133000
TZOFFSETTO:+1000
TZNAME:GMT+10
END:STANDARD
END:VTIMEZONE
BEGIN:VEVENT
UID:69e8cffbed9ac
DTSTART;TZID=Australia/Melbourne:20260425T133000
SEQUENCE:0
TRANSP:OPAQUE
DTEND;TZID=Australia/Melbourne:20260425T140000
LOCATION:27 Lascelles Avenue Beaumont SA
SUMMARY:Magain Real Estate Open for Inspection - 27 Lascelles Avenue
 Beaumont SA
CLASS:PUBLIC
DESCRIPTION:Open for Inspection: 27 Lascelles Avenue Beaumont SA Saturday
 25th Apr 13:30pm - 14:00pm Click the link for full listing information:
 https://www.magain.com.au/property/27-lascelles-avenue-beaumont-sa/8682039
DTSTAMP:20260422T134115
END:VEVENT
END:VCALENDAR