BEGIN:VCALENDAR
VERSION:2.0
PRODID:Magain Real Estate Open for Inspection - A Rare Holding on the Edge
 of Land and Sea
BEGIN:VTIMEZONE
TZID:Australia/Melbourne
BEGIN:STANDARD
DTSTART:20260425T130000
TZOFFSETTO:+1000
TZNAME:GMT+10
END:STANDARD
END:VTIMEZONE
BEGIN:VEVENT
UID:69eb5a922e13e
DTSTART;TZID=Australia/Melbourne:20260425T130000
SEQUENCE:0
TRANSP:OPAQUE
DTEND;TZID=Australia/Melbourne:20260425T133000
LOCATION:283 Lower Esplanade Aldinga Beach SA
SUMMARY:Magain Real Estate Open for Inspection - 283 Lower Esplanade
 Aldinga Beach SA
CLASS:PUBLIC
DESCRIPTION:Open for Inspection: 283 Lower Esplanade Aldinga Beach SA
 Saturday 25th Apr 13:00pm - 13:30pm Click the link for full listing
 information:
 https://www.magain.com.au/property/283-lower-esplanade-aldinga-beach-sa/8618191
DTSTAMP:20260424T115706
END:VEVENT
END:VCALENDAR