BEGIN:VCALENDAR
VERSION:2.0
PRODID:Magain Real Estate Open for Inspection - Private, Peaceful &
 Perfectly Positioned
BEGIN:VTIMEZONE
TZID:Australia/Melbourne
BEGIN:STANDARD
DTSTART:20260425T110000
TZOFFSETTO:+1000
TZNAME:GMT+10
END:STANDARD
END:VTIMEZONE
BEGIN:VEVENT
UID:69eb5cacb7dd0
DTSTART;TZID=Australia/Melbourne:20260425T110000
SEQUENCE:0
TRANSP:OPAQUE
DTEND;TZID=Australia/Melbourne:20260425T113000
LOCATION:3/4 Fiebig Court Lyndoch SA
SUMMARY:Magain Real Estate Open for Inspection - 3/4 Fiebig Court Lyndoch
 SA
CLASS:PUBLIC
DESCRIPTION:Open for Inspection: 3/4 Fiebig Court Lyndoch SA Saturday 25th
 Apr 11:00am - 11:30am Click the link for full listing information:
 https://www.magain.com.au/property/34-fiebig-court-lyndoch-sa/8651128
DTSTAMP:20260424T120604
END:VEVENT
END:VCALENDAR