BEGIN:VCALENDAR
VERSION:2.0
PRODID:Magain Real Estate Open for Inspection - Endless Possibilities for
 First-Time Buyers, Investors & Renovators!
BEGIN:VTIMEZONE
TZID:Australia/Melbourne
BEGIN:STANDARD
DTSTART:20260425T103000
TZOFFSETTO:+1000
TZNAME:GMT+10
END:STANDARD
END:VTIMEZONE
BEGIN:VEVENT
UID:69eb6e485a799
DTSTART;TZID=Australia/Melbourne:20260425T103000
SEQUENCE:0
TRANSP:OPAQUE
DTEND;TZID=Australia/Melbourne:20260425T110000
LOCATION:35 Hinsley Road Smithfield Plains SA
SUMMARY:Magain Real Estate Open for Inspection - 35 Hinsley Road
 Smithfield Plains SA
CLASS:PUBLIC
DESCRIPTION:Open for Inspection: 35 Hinsley Road Smithfield Plains SA
 Saturday 25th Apr 10:30am - 11:00am Click the link for full listing
 information:
 https://www.magain.com.au/property/35-hinsley-road-smithfield-plains-sa/8675098
DTSTAMP:20260424T132112
END:VEVENT
END:VCALENDAR