BEGIN:VCALENDAR
VERSION:2.0
PRODID:Magain Real Estate Open for Inspection - Coastal Charm Meets Modern
 Family Living – Spacious, Stylish & Made for Entertaining!
BEGIN:VTIMEZONE
TZID:Australia/Melbourne
BEGIN:STANDARD
DTSTART:20260429T173000
TZOFFSETTO:+1000
TZNAME:GMT+10
END:STANDARD
END:VTIMEZONE
BEGIN:VEVENT
UID:69eb5ae435b5f
DTSTART;TZID=Australia/Melbourne:20260429T173000
SEQUENCE:0
TRANSP:OPAQUE
DTEND;TZID=Australia/Melbourne:20260429T180000
LOCATION:43 Dunrobin Road Hove SA
SUMMARY:Magain Real Estate Open for Inspection - 43 Dunrobin Road Hove SA
CLASS:PUBLIC
DESCRIPTION:Open for Inspection: 43 Dunrobin Road Hove SA Wednesday 29th
 Apr 17:30pm - 18:00pm Click the link for full listing information:
 https://www.magain.com.au/property/43-dunrobin-road-hove-sa/8665218
DTSTAMP:20260424T115828
END:VEVENT
END:VCALENDAR