BEGIN:VCALENDAR
VERSION:2.0
PRODID:Magain Real Estate Open for Inspection - Luxury Resort like,
 private and refined family living …
BEGIN:VTIMEZONE
TZID:Australia/Melbourne
BEGIN:STANDARD
DTSTART:20260426T103000
TZOFFSETTO:+1000
TZNAME:GMT+10
END:STANDARD
END:VTIMEZONE
BEGIN:VEVENT
UID:69eb5c40098d6
DTSTART;TZID=Australia/Melbourne:20260426T103000
SEQUENCE:0
TRANSP:OPAQUE
DTEND;TZID=Australia/Melbourne:20260426T110000
LOCATION:44 Sunningdale Avenue Novar Gardens SA
SUMMARY:Magain Real Estate Open for Inspection - 44 Sunningdale Avenue
 Novar Gardens SA
CLASS:PUBLIC
DESCRIPTION:Open for Inspection: 44 Sunningdale Avenue Novar Gardens SA
 Sunday 26th Apr 10:30am - 11:00am Click the link for full listing
 information:
 https://www.magain.com.au/property/44-sunningdale-avenue-novar-gardens-sa/8679864
DTSTAMP:20260424T120416
END:VEVENT
END:VCALENDAR