BEGIN:VCALENDAR
VERSION:2.0
PRODID:Magain Real Estate Open for Inspection - Lifestyle, Location &
 Opportunity Near the Coast
BEGIN:VTIMEZONE
TZID:Australia/Melbourne
BEGIN:STANDARD
DTSTART:20260425T120000
TZOFFSETTO:+1000
TZNAME:GMT+10
END:STANDARD
END:VTIMEZONE
BEGIN:VEVENT
UID:69eb3e34a0589
DTSTART;TZID=Australia/Melbourne:20260425T120000
SEQUENCE:0
TRANSP:OPAQUE
DTEND;TZID=Australia/Melbourne:20260425T123000
LOCATION:5 Parkmore Avenue Sturt SA
SUMMARY:Magain Real Estate Open for Inspection - 5 Parkmore Avenue Sturt
 SA
CLASS:PUBLIC
DESCRIPTION:Open for Inspection: 5 Parkmore Avenue Sturt SA Saturday 25th
 Apr 12:00pm - 12:30pm Click the link for full listing information:
 https://www.magain.com.au/property/5-parkmore-avenue-sturt-sa/8680147
DTSTAMP:20260424T095604
END:VEVENT
END:VCALENDAR