BEGIN:VCALENDAR
VERSION:2.0
PRODID:Magain Real Estate Open for Inspection - Spacious, Well-Maintained
 Home with Solar, Workshop & Great Outdoor Entertaining
BEGIN:VTIMEZONE
TZID:Australia/Melbourne
BEGIN:STANDARD
DTSTART:20260426T150000
TZOFFSETTO:+1000
TZNAME:GMT+10
END:STANDARD
END:VTIMEZONE
BEGIN:VEVENT
UID:69eb5b9462e55
DTSTART;TZID=Australia/Melbourne:20260426T150000
SEQUENCE:0
TRANSP:OPAQUE
DTEND;TZID=Australia/Melbourne:20260426T153000
LOCATION:59 Suzanne Avenue Morphett Vale SA
SUMMARY:Magain Real Estate Open for Inspection - 59 Suzanne Avenue
 Morphett Vale SA
CLASS:PUBLIC
DESCRIPTION:Open for Inspection: 59 Suzanne Avenue Morphett Vale SA Sunday
 26th Apr 15:00pm - 15:30pm Click the link for full listing information:
 https://www.magain.com.au/property/59-suzanne-avenue-morphett-vale-sa/8645781
DTSTAMP:20260424T120124
END:VEVENT
END:VCALENDAR