BEGIN:VCALENDAR
VERSION:2.0
PRODID:Magain Real Estate Open for Inspection - A One‑of‑a‑Kind
 Architectural Masterpiece in Quiet Encounter Bay
BEGIN:VTIMEZONE
TZID:Australia/Melbourne
BEGIN:STANDARD
DTSTART:20260426T120000
TZOFFSETTO:+1000
TZNAME:GMT+10
END:STANDARD
END:VTIMEZONE
BEGIN:VEVENT
UID:69eb5bb9cc4dc
DTSTART;TZID=Australia/Melbourne:20260426T120000
SEQUENCE:0
TRANSP:OPAQUE
DTEND;TZID=Australia/Melbourne:20260426T123000
LOCATION:6 Krill Court Encounter Bay SA
SUMMARY:Magain Real Estate Open for Inspection - 6 Krill Court Encounter
 Bay SA
CLASS:PUBLIC
DESCRIPTION:Open for Inspection: 6 Krill Court Encounter Bay SA Sunday
 26th Apr 12:00pm - 12:30pm Click the link for full listing information:
 https://www.magain.com.au/property/6-krill-court-encounter-bay-sa/8631561
DTSTAMP:20260424T120201
END:VEVENT
END:VCALENDAR