BEGIN:VCALENDAR
VERSION:2.0
PRODID:Magain Real Estate Open for Inspection - Designed for Living,
 Positioned for Lifestyle
BEGIN:VTIMEZONE
TZID:Australia/Melbourne
BEGIN:STANDARD
DTSTART:20260426T120000
TZOFFSETTO:+1000
TZNAME:GMT+10
END:STANDARD
END:VTIMEZONE
BEGIN:VEVENT
UID:69eb5b1889170
DTSTART;TZID=Australia/Melbourne:20260426T120000
SEQUENCE:0
TRANSP:OPAQUE
DTEND;TZID=Australia/Melbourne:20260426T124500
LOCATION:6B Lincoln Avenue Warradale SA
SUMMARY:Magain Real Estate Open for Inspection - 6B Lincoln Avenue
 Warradale SA
CLASS:PUBLIC
DESCRIPTION:Open for Inspection: 6B Lincoln Avenue Warradale SA Sunday
 26th Apr 12:00pm - 12:45pm Click the link for full listing information:
 https://www.magain.com.au/property/6b-lincoln-avenue-warradale-sa/8679650
DTSTAMP:20260424T115920
END:VEVENT
END:VCALENDAR