BEGIN:VCALENDAR
VERSION:2.0
PRODID:Magain Real Estate Open for Inspection - Modern, low maintenance
 and peaceful
BEGIN:VTIMEZONE
TZID:Australia/Melbourne
BEGIN:STANDARD
DTSTART:20260426T140000
TZOFFSETTO:+1000
TZNAME:GMT+10
END:STANDARD
END:VTIMEZONE
BEGIN:VEVENT
UID:69eb5ba69f53d
DTSTART;TZID=Australia/Melbourne:20260426T140000
SEQUENCE:0
TRANSP:OPAQUE
DTEND;TZID=Australia/Melbourne:20260426T143000
LOCATION:7/25 Ramsgate Avenue Christies Beach SA
SUMMARY:Magain Real Estate Open for Inspection - 7/25 Ramsgate Avenue
 Christies Beach SA
CLASS:PUBLIC
DESCRIPTION:Open for Inspection: 7/25 Ramsgate Avenue Christies Beach SA
 Sunday 26th Apr 14:00pm - 14:30pm Click the link for full listing
 information:
 https://www.magain.com.au/property/725-ramsgate-avenue-christies-beach-sa/8680335
DTSTAMP:20260424T120142
END:VEVENT
END:VCALENDAR