BEGIN:VCALENDAR
VERSION:2.0
PRODID:Magain Real Estate Open for Inspection - 3m Soaring Ceilings |
 Brand New Luxury | Coastal Living at Its Most Convenient
BEGIN:VTIMEZONE
TZID:Australia/Melbourne
BEGIN:STANDARD
DTSTART:20260426T100000
TZOFFSETTO:+1000
TZNAME:GMT+10
END:STANDARD
END:VTIMEZONE
BEGIN:VEVENT
UID:69eb5b5c819bb
DTSTART;TZID=Australia/Melbourne:20260426T100000
SEQUENCE:0
TRANSP:OPAQUE
DTEND;TZID=Australia/Melbourne:20260426T103500
LOCATION:77 Sunshine Avenue Warradale SA
SUMMARY:Magain Real Estate Open for Inspection - 77 Sunshine Avenue
 Warradale SA
CLASS:PUBLIC
DESCRIPTION:Open for Inspection: 77 Sunshine Avenue Warradale SA Sunday
 26th Apr 10:00am - 10:35am Click the link for full listing information:
 https://www.magain.com.au/property/77-sunshine-avenue-warradale-sa/8683115
DTSTAMP:20260424T120028
END:VEVENT
END:VCALENDAR