BEGIN:VCALENDAR
VERSION:2.0
PRODID:Magain Real Estate Open for Inspection - Stylish Three Level Living
 in Prime City Fringe Location
BEGIN:VTIMEZONE
TZID:Australia/Melbourne
BEGIN:STANDARD
DTSTART:20260425T141500
TZOFFSETTO:+1000
TZNAME:GMT+10
END:STANDARD
END:VTIMEZONE
BEGIN:VEVENT
UID:69eb5b801f61e
DTSTART;TZID=Australia/Melbourne:20260425T141500
SEQUENCE:0
TRANSP:OPAQUE
DTEND;TZID=Australia/Melbourne:20260425T144500
LOCATION:9/91 Myrtle Street Prospect SA
SUMMARY:Magain Real Estate Open for Inspection - 9/91 Myrtle Street
 Prospect SA
CLASS:PUBLIC
DESCRIPTION:Open for Inspection: 9/91 Myrtle Street Prospect SA Saturday
 25th Apr 14:15pm - 14:45pm Click the link for full listing information:
 https://www.magain.com.au/property/991-myrtle-street-prospect-sa/8679643
DTSTAMP:20260424T120104
END:VEVENT
END:VCALENDAR